BEGIN:VCALENDAR
VERSION:2.0
PRODID:www.codnes.sk
BEGIN:VEVENT
UID:69e737e75314f
DTSTART:20190918T180000Z
SEQUENCE:0
TRANSP:OPAQUE
DTEND:20190918T220000Z
LOCATION:Košice
SUMMARY:ZevlTrevl - Černobyl
CLASS:PUBLIC
DESCRIPTION:ZevlTrevl je séria prednášok o alternatívnom cestovaní. Na
  týchto prednáškach sa návštevníci dozveda
DTSTAMP:20260421T084007Z
END:VEVENT
END:VCALENDAR