BEGIN:VCALENDAR
VERSION:2.0
PRODID:www.codnes.sk
BEGIN:VEVENT
UID:69e58e416f13b
DTSTART:20260425T093000Z
SEQUENCE:0
TRANSP:OPAQUE
DTEND:20260425T183000Z
LOCATION:Košice
SUMMARY:Ženská konferencia
CLASS:PUBLIC
DESCRIPTION:Milé dámy\,pripravujeme pre vás celodennú východoslovensk
 ú ženskú konferenciu Od srdca k srdcu. 🌸Spol
DTSTAMP:20260420T022401Z
END:VEVENT
END:VCALENDAR