BEGIN:VCALENDAR
VERSION:2.0
PRODID:www.codnes.sk
BEGIN:VEVENT
UID:69e7840ecc073
DTSTART:20230409T210000Z
SEQUENCE:0
TRANSP:OPAQUE
LOCATION:Košice
SUMMARY:World music: Classic Energy orchestra
CLASS:PUBLIC
DESCRIPTION:Svetové hity v podaní orchestra CLASSIC ENERGY. \nEnergia na
 šich hudobníkov\, mohutný zvuk nástrojov\,
DTSTAMP:20260421T140502Z
END:VEVENT
END:VCALENDAR