BEGIN:VCALENDAR
VERSION:2.0
PRODID:www.codnes.sk
BEGIN:VEVENT
UID:69e740dd346c4
DTSTART:20210522T140000Z
SEQUENCE:0
TRANSP:OPAQUE
LOCATION:Bratislava
SUMMARY:VÝSTAVA POKLAD INKOV - Bratislavský hrad
CLASS:PUBLIC
DESCRIPTION:Odhaľte najväčší zlatý poklad sveta!\nOd 29. apríla 2021
  bude na Bratislavskom hrade opätovne otvoren
DTSTAMP:20260421T091821Z
END:VEVENT
END:VCALENDAR