BEGIN:VCALENDAR
VERSION:2.0
PRODID:www.codnes.sk
BEGIN:VEVENT
UID:69e73a8269089
DTSTART:20260215T163000Z
SEQUENCE:0
TRANSP:OPAQUE
LOCATION:Michalovce
SUMMARY:Verejné korčuľovanie zimný štadión Michalovce
CLASS:PUBLIC
DESCRIPTION:Verejné korčuľovanie\n16:30 - 18:30\nCena vstupenky:• 4\,6
 0€Zľavy:• ZŤP: 2\,60€• Deti do 120 cm: 2\,60€  
DTSTAMP:20260421T085114Z
END:VEVENT
END:VCALENDAR