BEGIN:VCALENDAR
VERSION:2.0
PRODID:www.codnes.sk
BEGIN:VEVENT
UID:69e8979a500b9
DTSTART:20260421T190000Z
SEQUENCE:0
TRANSP:OPAQUE
LOCATION:Košice
SUMMARY:Večer s Václavem NECKÁŘEM
CLASS:PUBLIC
DESCRIPTION:„Být na pódiu je pro mě stejně přirozené jako dýchat.
  Poprvé jsem na něm stál jako malé děcko a teď\,
DTSTAMP:20260422T094042Z
END:VEVENT
END:VCALENDAR