BEGIN:VCALENDAR
VERSION:2.0
PRODID:www.codnes.sk
BEGIN:VEVENT
UID:69e76fbdd146c
DTSTART:20260321T220000Z
SEQUENCE:0
TRANSP:OPAQUE
DTEND:20260321T235900Z
LOCATION:Michalovce
SUMMARY:THE GENTLEMEN SHOW
CLASS:PUBLIC
DESCRIPTION:🔥 Dámy\, pripravte sa na noc\, na ktorú sa nezabúda! 🔥
 Do mesta Michalovce prichádza exkluzívna\, profes
DTSTAMP:20260421T123821Z
END:VEVENT
END:VCALENDAR