BEGIN:VCALENDAR
VERSION:2.0
PRODID:www.codnes.sk
BEGIN:VEVENT
UID:69e738f86d5df
DTSTART:20240615T190000Z
SEQUENCE:0
TRANSP:OPAQUE
DTEND:20240615T235900Z
LOCATION:Košice
SUMMARY:Samuel Benchatritt/ Mínus dvaja
CLASS:PUBLIC
DESCRIPTION:Mínus dvaja je krásny ľudsko smiešný príbeh dvoch ľudí\
 , ktorý sa rozhodnú utiecť z nemocnici. Majú u
DTSTAMP:20260421T084440Z
END:VEVENT
END:VCALENDAR