BEGIN:VCALENDAR
VERSION:2.0
PRODID:www.codnes.sk
BEGIN:VEVENT
UID:69eb0f45e398f
DTSTART:20190926T180000Z
SEQUENCE:0
TRANSP:OPAQUE
DTEND:20190926T220000Z
LOCATION:Košice
SUMMARY:Roztoč to!
CLASS:PUBLIC
DESCRIPTION:Ak jediný plnohodnotný pohyb\, ktorý v práci vykonávaš je
  presun do jedálne a späť\, čakáme ťa každý u
DTSTAMP:20260424T063549Z
END:VEVENT
END:VCALENDAR