BEGIN:VCALENDAR
VERSION:2.0
PRODID:www.codnes.sk
BEGIN:VEVENT
UID:69e8a9229c610
DTSTART:20260425T200000Z
SEQUENCE:0
TRANSP:OPAQUE
DTEND:20260425T235959Z
LOCATION:Košice
SUMMARY:Protest-songy za Slovensko (Košice)
CLASS:PUBLIC
DESCRIPTION:Túžime po láske\, slobode\, spravodlivosti a mieri.Naše tú
 žby sa nenapĺňali v minulosti a nenapĺňajú s
DTSTAMP:20260422T105530Z
END:VEVENT
END:VCALENDAR