BEGIN:VCALENDAR
VERSION:2.0
PRODID:www.codnes.sk
BEGIN:VEVENT
UID:69e74c9b69c81
DTSTART:20260319T190000Z
SEQUENCE:0
TRANSP:OPAQUE
DTEND:20260319T235900Z
LOCATION:Košice
SUMMARY:príBEH v DNA
CLASS:PUBLIC
DESCRIPTION:Každé dobrodružstvo sa začína vo chvíli\, ktorá má k do
 konalosti poriadne ďaleko.A práve tam sa píšu
DTSTAMP:20260421T100827Z
END:VEVENT
END:VCALENDAR