BEGIN:VCALENDAR
VERSION:2.0
PRODID:www.codnes.sk
BEGIN:VEVENT
UID:69e6de84a41e3
DTSTART:20210921T180000Z
SEQUENCE:0
TRANSP:OPAQUE
DTEND:20210921T220000Z
LOCATION:Košice
SUMMARY:NSAJD LITRIČR vol.4 (DIVADLO BEZ DOMOVA)
CLASS:PUBLIC
DESCRIPTION:INSAJD LITRIČR je výsledkom spolupráce Tabačky Kulturfabrik
  a Tomáša Straku\, ktorý v Tabačke vyspove
DTSTAMP:20260421T021844Z
END:VEVENT
END:VCALENDAR