BEGIN:VCALENDAR
VERSION:2.0
PRODID:www.codnes.sk
BEGIN:VEVENT
UID:69ed4559ece53
DTSTART:20260629T190000Z
SEQUENCE:0
TRANSP:OPAQUE
DTEND:20260629T211500Z
LOCATION:Michalovce
SUMMARY:Náš priateľ René | 29. 6. | Michalovce
CLASS:PUBLIC
DESCRIPTION:Mozog naložený v liehu\, humor láskavo objímajúci hlúpos
 ť národa a divadelný skvost\, ktorý neohlodal
DTSTAMP:20260425T225105Z
END:VEVENT
END:VCALENDAR