BEGIN:VCALENDAR
VERSION:2.0
PRODID:www.codnes.sk
BEGIN:VEVENT
UID:69e9c90ae3bed
DTSTART:20210625T190000Z
SEQUENCE:0
TRANSP:OPAQUE
DTEND:20210625T235900Z
LOCATION:Košice
SUMMARY:My\, ľud!
CLASS:PUBLIC
DESCRIPTION:“Hladina mora stúpa...Klíma a svet sa mení...Zem sa otepľ
 uje...Pomaly\, ale isto…”&nbsp\;&nbsp\;V dôsle
DTSTAMP:20260423T072354Z
END:VEVENT
END:VCALENDAR