BEGIN:VCALENDAR
VERSION:2.0
PRODID:www.codnes.sk
BEGIN:VEVENT
UID:69ebc8e892ae9
DTSTART:20210624T150000Z
SEQUENCE:0
TRANSP:OPAQUE
DTEND:20210624T190000Z
LOCATION:Košice
SUMMARY:My\, ľud!
CLASS:PUBLIC
DESCRIPTION:“Hladina mora stúpa...Klíma a svet sa mení...Zem sa otepľ
 uje...Pomaly\, ale isto…”&nbsp\;&nbsp\;V dôsle
DTSTAMP:20260424T194752Z
END:VEVENT
END:VCALENDAR