BEGIN:VCALENDAR
VERSION:2.0
PRODID:www.codnes.sk
BEGIN:VEVENT
UID:69e7ca52adb0b
DTSTART:20260525T190000Z
SEQUENCE:0
TRANSP:OPAQUE
LOCATION:Košice
SUMMARY:muzikál KUBO
CLASS:PUBLIC
DESCRIPTION:Najúspešnejší muzikál je opäť na scéne ! Prevalcoval aj
  Pražskú Hyberniu !\nPOCTA JOZEFOVI KRONEROVIb
DTSTAMP:20260421T190450Z
END:VEVENT
END:VCALENDAR