BEGIN:VCALENDAR
VERSION:2.0
PRODID:www.codnes.sk
BEGIN:VEVENT
UID:69e5a2b47d15e
DTSTART:20190727T210000Z
SEQUENCE:0
TRANSP:OPAQUE
LOCATION:Žilina
SUMMARY:MŠK Žilina - FC Spartak Trnava
CLASS:PUBLIC
DESCRIPTION:Dátum: 16.02.2019Miesto konania: Štadión MŠK ŽilinaČas: 1
 4:00 hod.\nCena/Price: Západná tribúna A\,B\,C
DTSTAMP:20260420T035116Z
END:VEVENT
END:VCALENDAR