BEGIN:VCALENDAR
VERSION:2.0
PRODID:www.codnes.sk
BEGIN:VEVENT
UID:69e936688ae46
DTSTART:20200820T190000Z
SEQUENCE:0
TRANSP:OPAQUE
DTEND:20200820T235900Z
LOCATION:Košice
SUMMARY:MOVE FEST KOŠICE/All my skirts | Ariadna Vendelová (SK)
CLASS:PUBLIC
DESCRIPTION:Podujatie je súčasťou 3. ročníka festivalu súčasného ta
 nca\, nového cirkusu a fyzického divadla Move
DTSTAMP:20260422T205816Z
END:VEVENT
END:VCALENDAR