BEGIN:VCALENDAR
VERSION:2.0
PRODID:www.codnes.sk
BEGIN:VEVENT
UID:69e74baf86096
DTSTART:20260323T190000Z
SEQUENCE:0
TRANSP:OPAQUE
LOCATION:Košice
SUMMARY:Milión
CLASS:PUBLIC
DESCRIPTION:Milión\nVilém Dubnička\n \nRéžia - Jakub Nvota\nHrajú - 
 Braňo Deak a Juraj Bača\nHudba - Mário Buzzi\nProd
DTSTAMP:20260421T100431Z
END:VEVENT
END:VCALENDAR