BEGIN:VCALENDAR
VERSION:2.0
PRODID:www.codnes.sk
BEGIN:VEVENT
UID:69e7660fbf7dc
DTSTART:20260425T181500Z
SEQUENCE:0
TRANSP:OPAQUE
DTEND:20260425T220000Z
LOCATION:Košice
SUMMARY:Meet Me In The Moshpit - Košice
CLASS:PUBLIC
DESCRIPTION:Mini-turné “Meet Me In The Moshpit” mieri aj do tvojho mes
 ta!&nbsp\;“Meet Me In The Moshpit” spája dv
DTSTAMP:20260421T115703Z
END:VEVENT
END:VCALENDAR