BEGIN:VCALENDAR
VERSION:2.0
PRODID:www.codnes.sk
BEGIN:VEVENT
UID:69eb69c9a7fba
DTSTART:20260502T180000Z
SEQUENCE:0
TRANSP:OPAQUE
LOCATION:Margecany
SUMMARY:LIPA  spieva LASICU
CLASS:PUBLIC
DESCRIPTION:Peter Lipa pokračuje vo svojom koncertnom turné a pripomenie 
 odkaz aj dielo svojho priateľa a blízke
DTSTAMP:20260424T130201Z
END:VEVENT
END:VCALENDAR