BEGIN:VCALENDAR
VERSION:2.0
PRODID:www.codnes.sk
BEGIN:VEVENT
UID:69eb6cb9ec02a
DTSTART:20190925T190000Z
SEQUENCE:0
TRANSP:OPAQUE
DTEND:20190925T235900Z
LOCATION:Bratislava
SUMMARY:Krst Denníka E + Diskusia: Mikloš\, Ódor\, Kišš o ekonomike
CLASS:PUBLIC
DESCRIPTION:Príďte osláviť spustenie Denníka E. Večer zahájime debat
 ou popredných ekonomických expertov o výhľad
DTSTAMP:20260424T131433Z
END:VEVENT
END:VCALENDAR