BEGIN:VCALENDAR
VERSION:2.0
PRODID:www.codnes.sk
BEGIN:VEVENT
UID:69e58ca19f2f6
DTSTART:20260102T122000Z
SEQUENCE:0
TRANSP:OPAQUE
DTEND:99991231T005959Z
LOCATION:Košice
SUMMARY:Košické potulky / Jakabov palác / 2.\, 3.\, 4.\, 5.\, 6.\, 7. ja
 nuár 2026
CLASS:PUBLIC
DESCRIPTION:Je pozvánkou ku krásam košickej architektúry (ak idete od s
 tanice).&nbsp\;Zaváňa starými dobrými časm
DTSTAMP:20260420T021705Z
END:VEVENT
END:VCALENDAR