BEGIN:VCALENDAR
VERSION:2.0
PRODID:www.codnes.sk
BEGIN:VEVENT
UID:69e75c66c1e3e
DTSTART:20260511T133000Z
SEQUENCE:0
TRANSP:OPAQUE
DTEND:20260511T173000Z
LOCATION:Košice
SUMMARY:Košické potulky / ARCIBISKUPSKÝ ÚRAD zvnútra + FARA / 7.\, 8.\
 , 9.\, 10.\, 11. máj 2026
CLASS:PUBLIC
DESCRIPTION:Palác\, ktorý navštevovali cisári\, veľvyslanci…Viac inf
 o na www.POTULKA.skV r. 1804 pápež Pius VII. s
DTSTAMP:20260421T111550Z
END:VEVENT
END:VCALENDAR