BEGIN:VCALENDAR
VERSION:2.0
PRODID:www.codnes.sk
BEGIN:VEVENT
UID:69e75d3106e64
DTSTART:20260509T133000Z
SEQUENCE:0
TRANSP:OPAQUE
DTEND:20260509T173000Z
LOCATION:Košice
SUMMARY:Košické potulky / ARCIBISKUPSKÝ ÚRAD zvnútra + FARA / 7.\, 8.\
 , 9.\, 10.\, 11. máj 2026
CLASS:PUBLIC
DESCRIPTION:Palác\, ktorý navštevovali cisári\, veľvyslanci…Viac inf
 o na www.POTULKA.skV r. 1804 pápež Pius VII. s
DTSTAMP:20260421T111913Z
END:VEVENT
END:VCALENDAR