BEGIN:VCALENDAR
VERSION:2.0
PRODID:www.codnes.sk
BEGIN:VEVENT
UID:69eb6f17a7d36
DTSTART:20260427T180000Z
SEQUENCE:0
TRANSP:OPAQUE
LOCATION:Košice
SUMMARY:Janek Ledecký
CLASS:PUBLIC
DESCRIPTION:Janek LEDECKÝ - český hudobný skladateľ\, producent\, text
 ár. gitarista a spevák sa po roku vracia na
DTSTAMP:20260424T132439Z
END:VEVENT
END:VCALENDAR