BEGIN:VCALENDAR
VERSION:2.0
PRODID:www.codnes.sk
BEGIN:VEVENT
UID:69e7411063b39
DTSTART:20260321T200000Z
SEQUENCE:0
TRANSP:OPAQUE
LOCATION:Michalovce
SUMMARY:GENTLEMEN SHOW MICHALOVCE
CLASS:PUBLIC
DESCRIPTION:&amp\;#128293\; Dámy\, pripravte sa na noc\, na ktorú sa nez
 abúda! &amp\;#128293\;\nDo mesta Michalovce pri
DTSTAMP:20260421T091912Z
END:VEVENT
END:VCALENDAR