BEGIN:VCALENDAR
VERSION:2.0
PRODID:www.codnes.sk
BEGIN:VEVENT
UID:69e8957d8effc
DTSTART:20260313T210000Z
SEQUENCE:0
TRANSP:OPAQUE
DTEND:20260314T050000Z
LOCATION:Košice
SUMMARY:AFTERDARK x BERLIN TASTE w/ NOZZ
CLASS:PUBLIC
DESCRIPTION:KOŠICE 13.3.2026 | AFTERDARK x BERLIN TASTE w/ NOZZ&nbsp\;Age:
  16+— 𝐅𝐎𝐋𝐋𝐎𝐖 𝐀𝐅𝐓𝐄𝐑𝐃𝐀𝐑𝐊 —h
 ttps://instagr
DTSTAMP:20260422T093141Z
END:VEVENT
END:VCALENDAR