BEGIN:VCALENDAR
VERSION:2.0
PRODID:www.codnes.sk
BEGIN:VEVENT
UID:69e74b797c602
DTSTART:20260320T180000Z
SEQUENCE:0
TRANSP:OPAQUE
LOCATION:Obišovce
SUMMARY:39 STUPŇOV
CLASS:PUBLIC
DESCRIPTION:Brodwayský Hit - Špionážna krimikomédia na motívy rovnome
 nného kultového filmu Alfréda Hitchcocka\, T
DTSTAMP:20260421T100337Z
END:VEVENT
END:VCALENDAR